BEGIN:VCALENDAR
VERSION:2.0
PRODID:-//Tenor Aykut Yılmaz - ECPv6.15.20//NONSGML v1.0//EN
CALSCALE:GREGORIAN
METHOD:PUBLISH
X-WR-CALNAME:Tenor Aykut Yılmaz
X-ORIGINAL-URL:https://tenoraykutyilmaz.com
X-WR-CALDESC:Tenor Aykut Yılmaz için etkinlikler
REFRESH-INTERVAL;VALUE=DURATION:PT1H
X-Robots-Tag:noindex
X-PUBLISHED-TTL:PT1H
BEGIN:VTIMEZONE
TZID:Europe/Istanbul
BEGIN:STANDARD
TZOFFSETFROM:+0300
TZOFFSETTO:+0300
TZNAME:+03
DTSTART:20240101T000000
END:STANDARD
END:VTIMEZONE
BEGIN:VEVENT
DTSTART;TZID=Europe/Istanbul:20250928T203000
DTEND;TZID=Europe/Istanbul:20250928T220000
DTSTAMP:20260423T022915
CREATED:20250919T161222Z
LAST-MODIFIED:20251025T151142Z
UID:2142-1759091400-1759096800@tenoraykutyilmaz.com
SUMMARY:28 Eylül '25 / Jazz in Love / Moda Kilisesi Konseri
DESCRIPTION:https://biletinial.com/tr-tr/muzik/jazz-in-love
URL:https://tenoraykutyilmaz.com/event/jazz-in-love/
LOCATION:All Saints Moda Kilisesi\, Caferağa Mahallesi\, Yusuf Kamil Paşa Sokağı\, No:8 34710 Kadıköy\, İSTANBUL\, Türkiye
ORGANIZER;CN="Aykut Y%C4%B1lmaz":MAILTO:tenoraykutyilmaz@gmail.com
END:VEVENT
END:VCALENDAR