BEGIN:VCALENDAR
VERSION:2.0
PRODID:-//Tenor Aykut Yılmaz - ECPv6.15.20//NONSGML v1.0//EN
CALSCALE:GREGORIAN
METHOD:PUBLISH
X-ORIGINAL-URL:https://tenoraykutyilmaz.com
X-WR-CALDESC:Tenor Aykut Yılmaz için etkinlikler
REFRESH-INTERVAL;VALUE=DURATION:PT1H
X-Robots-Tag:noindex
X-PUBLISHED-TTL:PT1H
BEGIN:VTIMEZONE
TZID:Europe/Istanbul
BEGIN:STANDARD
TZOFFSETFROM:+0300
TZOFFSETTO:+0300
TZNAME:+03
DTSTART:20240101T000000
END:STANDARD
END:VTIMEZONE
BEGIN:VEVENT
DTSTART;TZID=Europe/Istanbul:20251222T200000
DTEND;TZID=Europe/Istanbul:20251222T213000
DTSTAMP:20260421T010425
CREATED:20251115T180543Z
LAST-MODIFIED:20251128T155251Z
UID:2315-1766433600-1766439000@tenoraykutyilmaz.com
SUMMARY:22 Aralık '25 / Jazz in Love / CSO Ada Ankara Konseri
DESCRIPTION:https://biletinial.com/tr-tr/muzik/jazz-in-love-csoada
URL:https://tenoraykutyilmaz.com/event/22-aralik-25-cso-ada-ankara-jazz-in-love-konseri/
LOCATION:CSO Ada Ankara\, Talatpaşa Bulvarı\, No: 38 Opera\, 06330 Altındağ/Ankara\, Ankara\, Turkey
END:VEVENT
END:VCALENDAR