BEGIN:VCALENDAR
VERSION:2.0
PRODID:-//Tenor Aykut Yılmaz - ECPv6.15.20//NONSGML v1.0//EN
CALSCALE:GREGORIAN
METHOD:PUBLISH
X-ORIGINAL-URL:https://tenoraykutyilmaz.com
X-WR-CALDESC:Tenor Aykut Yılmaz için etkinlikler
REFRESH-INTERVAL;VALUE=DURATION:PT1H
X-Robots-Tag:noindex
X-PUBLISHED-TTL:PT1H
BEGIN:VTIMEZONE
TZID:Europe/Istanbul
BEGIN:STANDARD
TZOFFSETFROM:+0300
TZOFFSETTO:+0300
TZNAME:+03
DTSTART:20250101T000000
END:STANDARD
END:VTIMEZONE
BEGIN:VEVENT
DTSTART;TZID=Europe/Istanbul:20260118T200000
DTEND;TZID=Europe/Istanbul:20260118T213000
DTSTAMP:20260420T215032
CREATED:20251226T153956Z
LAST-MODIFIED:20251226T153956Z
UID:2362-1768766400-1768771800@tenoraykutyilmaz.com
SUMMARY:18 Ocak ’26 / Napolitango / All Saints Moda Kilisesi
DESCRIPTION:https://biletinial.com/tr-tr/muzik/napolitango
URL:https://tenoraykutyilmaz.com/event/18-ocak-26-napolitango-all-saints-moda-kilisesi/
LOCATION:All Saints Moda Kilisesi\, Caferağa Mahallesi\, Yusuf Kamil Paşa Sokağı\, No:8 34710 Kadıköy\, İSTANBUL\, Türkiye
ORGANIZER;CN="Aykut Y%C4%B1lmaz":MAILTO:tenoraykutyilmaz@gmail.com
END:VEVENT
END:VCALENDAR