BEGIN:VCALENDAR
VERSION:2.0
PRODID:-//Tenor Aykut Yılmaz - ECPv6.15.20//NONSGML v1.0//EN
CALSCALE:GREGORIAN
METHOD:PUBLISH
X-WR-CALNAME:Tenor Aykut Yılmaz
X-ORIGINAL-URL:https://tenoraykutyilmaz.com
X-WR-CALDESC:Tenor Aykut Yılmaz için etkinlikler
REFRESH-INTERVAL;VALUE=DURATION:PT1H
X-Robots-Tag:noindex
X-PUBLISHED-TTL:PT1H
BEGIN:VTIMEZONE
TZID:Europe/Istanbul
BEGIN:STANDARD
TZOFFSETFROM:+0300
TZOFFSETTO:+0300
TZNAME:+03
DTSTART:20250101T000000
END:STANDARD
END:VTIMEZONE
BEGIN:VEVENT
DTSTART;TZID=Europe/Istanbul:20260317T200000
DTEND;TZID=Europe/Istanbul:20260317T213000
DTSTAMP:20260420T142923
CREATED:20260221T143557Z
LAST-MODIFIED:20260325T163706Z
UID:2399-1773777600-1773783000@tenoraykutyilmaz.com
SUMMARY:17 Mart'26 / Allı Turnam / Karşıyaka Hikmet Şimşek Sanat Merkezi
DESCRIPTION:https://biletinial.com/tr-tr/muzik/alli-turnam
URL:https://tenoraykutyilmaz.com/event/17-mart26-alli-turnam-karsiyaka-hikmet-simsek-kultur-merkezi/
LOCATION:Hikmet Şimşek Kültür Merkezi Karşıyaka\, Yalı\, 6445. Sk. No:23\, 35550 Atakent / Karşıyaka/Karşıyaka/İzmir\, İzmir\, Turkey
ORGANIZER;CN="Aykut Y%C4%B1lmaz":MAILTO:tenoraykutyilmaz@gmail.com
END:VEVENT
END:VCALENDAR