BEGIN:VCALENDAR
VERSION:2.0
PRODID:-//Tenor Aykut Yılmaz - ECPv6.15.20//NONSGML v1.0//EN
CALSCALE:GREGORIAN
METHOD:PUBLISH
X-WR-CALNAME:Tenor Aykut Yılmaz
X-ORIGINAL-URL:https://tenoraykutyilmaz.com
X-WR-CALDESC:Tenor Aykut Yılmaz için etkinlikler
REFRESH-INTERVAL;VALUE=DURATION:PT1H
X-Robots-Tag:noindex
X-PUBLISHED-TTL:PT1H
BEGIN:VTIMEZONE
TZID:Europe/Istanbul
BEGIN:STANDARD
TZOFFSETFROM:+0300
TZOFFSETTO:+0300
TZNAME:+03
DTSTART:20240101T000000
END:STANDARD
END:VTIMEZONE
BEGIN:VEVENT
DTSTART;TZID=Europe/Istanbul:20251108T110000
DTEND;TZID=Europe/Istanbul:20251108T120000
DTSTAMP:20260421T005627
CREATED:20251009T162052Z
LAST-MODIFIED:20251025T151419Z
UID:2252-1762599600-1762603200@tenoraykutyilmaz.com
SUMMARY:8 Kasım '25 / Atam'a Şarkılar / AKM Konseri
DESCRIPTION:https://akmistanbul.gov.tr/tr/etkinlik/turk-telekom-prime-kahve-konserleri-atama-sarkilar
URL:https://tenoraykutyilmaz.com/event/atama-sarkilar/
LOCATION:Atatürk Kültür Merkezi\, İstanbul
END:VEVENT
BEGIN:VEVENT
DTSTART;TZID=Europe/Istanbul:20251110T200000
DTEND;TZID=Europe/Istanbul:20251110T220000
DTSTAMP:20260421T005627
CREATED:20250919T162356Z
LAST-MODIFIED:20251025T151454Z
UID:2146-1762804800-1762812000@tenoraykutyilmaz.com
SUMMARY:10 Kasım '25 / Atam'a Şarkılar / CSO Ada Ankara Konseri
DESCRIPTION:https://csoadaankara.gov.tr/tr/event/detail/9116/9131/atam-a-sarkilar
URL:https://tenoraykutyilmaz.com/event/2146/
LOCATION:CSO Ada Ankara\, Talatpaşa Bulvarı\, No: 38 Opera\, 06330 Altındağ/Ankara\, Ankara\, Turkey
ORGANIZER;CN="Aykut Y%C4%B1lmaz":MAILTO:tenoraykutyilmaz@gmail.com
END:VEVENT
BEGIN:VEVENT
DTSTART;TZID=Europe/Istanbul:20251123T203000
DTEND;TZID=Europe/Istanbul:20251123T220000
DTSTAMP:20260421T005627
CREATED:20251025T120106Z
LAST-MODIFIED:20251128T154943Z
UID:2276-1763929800-1763935200@tenoraykutyilmaz.com
SUMMARY:23 Kasım '25 / Jazz in Love / Moda Kilisesi
DESCRIPTION:https://biletinial.com/tr-tr/muzik/jazz-in-love \n 
URL:https://tenoraykutyilmaz.com/event/jazz-in-love-3/
LOCATION:All Saints Moda Kilisesi\, Caferağa Mahallesi\, Yusuf Kamil Paşa Sokağı\, No:8 34710 Kadıköy\, İSTANBUL\, Türkiye
ORGANIZER;CN="Aykut Y%C4%B1lmaz":MAILTO:tenoraykutyilmaz@gmail.com
END:VEVENT
END:VCALENDAR