BEGIN:VCALENDAR
VERSION:2.0
PRODID:-//Tenor Aykut Yılmaz - ECPv6.15.20//NONSGML v1.0//EN
CALSCALE:GREGORIAN
METHOD:PUBLISH
X-WR-CALNAME:Tenor Aykut Yılmaz
X-ORIGINAL-URL:https://tenoraykutyilmaz.com
X-WR-CALDESC:Tenor Aykut Yılmaz için etkinlikler
REFRESH-INTERVAL;VALUE=DURATION:PT1H
X-Robots-Tag:noindex
X-PUBLISHED-TTL:PT1H
BEGIN:VTIMEZONE
TZID:Europe/Istanbul
BEGIN:STANDARD
TZOFFSETFROM:+0300
TZOFFSETTO:+0300
TZNAME:+03
DTSTART:20250101T000000
END:STANDARD
END:VTIMEZONE
BEGIN:VEVENT
DTSTART;TZID=Europe/Istanbul:20260118T200000
DTEND;TZID=Europe/Istanbul:20260118T213000
DTSTAMP:20260420T180155
CREATED:20251226T153956Z
LAST-MODIFIED:20251226T153956Z
UID:2362-1768766400-1768771800@tenoraykutyilmaz.com
SUMMARY:18 Ocak ’26 / Napolitango / All Saints Moda Kilisesi
DESCRIPTION:https://biletinial.com/tr-tr/muzik/napolitango
URL:https://tenoraykutyilmaz.com/event/18-ocak-26-napolitango-all-saints-moda-kilisesi/
LOCATION:All Saints Moda Kilisesi\, Caferağa Mahallesi\, Yusuf Kamil Paşa Sokağı\, No:8 34710 Kadıköy\, İSTANBUL\, Türkiye
ORGANIZER;CN="Aykut Y%C4%B1lmaz":MAILTO:tenoraykutyilmaz@gmail.com
END:VEVENT
BEGIN:VEVENT
DTSTART;TZID=Europe/Istanbul:20260121T200000
DTEND;TZID=Europe/Istanbul:20260121T213000
DTSTAMP:20260420T180155
CREATED:20251130T130318Z
LAST-MODIFIED:20251130T131254Z
UID:2349-1769025600-1769031000@tenoraykutyilmaz.com
SUMMARY:21 Ocak '26 / Jazz in Love / NHKM İzmir
DESCRIPTION:https://biletinial.com/tr-tr/muzik/jazz-in-love
URL:https://tenoraykutyilmaz.com/event/21-ocak-26-jazz-in-love-nhkm-izmir/
LOCATION:Nazım Hikmet Kültür Merkezi İzmir\, OS-KA Pasajı\, Konak\, Anafartalar Cd. No: 20\, 35250 Konak/İzmir\, İzmir\, Turkey
ORGANIZER;CN="Aykut Y%C4%B1lmaz":MAILTO:tenoraykutyilmaz@gmail.com
END:VEVENT
BEGIN:VEVENT
DTSTART;TZID=Europe/Istanbul:20260123T200000
DTEND;TZID=Europe/Istanbul:20260123T213000
DTSTAMP:20260420T180155
CREATED:20251226T154603Z
LAST-MODIFIED:20251226T154815Z
UID:2366-1769198400-1769203800@tenoraykutyilmaz.com
SUMMARY:23 Ocak ’26 / Songs for Love / Kozyatağı Kültür Merkezi
DESCRIPTION:https://biletinial.com/tr-tr/muzik/songs-for-love-konseri
URL:https://tenoraykutyilmaz.com/event/23-ocak-26-songs-for-love-kozyatagi-kultur-merkezi/
LOCATION:Kozyatağı Kültür Merkezi\, Kozyatağı\, Bayar Cad./buket Sok. Kozzy Alışveriş Ve Kültür Merkezi 20/1\, 34742 Kadıköy/İstanbul\, İstanbul\, 34742\, Turkey
ORGANIZER;CN="Aykut Y%C4%B1lmaz":MAILTO:tenoraykutyilmaz@gmail.com
END:VEVENT
END:VCALENDAR