BEGIN:VCALENDAR
VERSION:2.0
PRODID:-//Tenor Aykut Yılmaz - ECPv6.15.20//NONSGML v1.0//EN
CALSCALE:GREGORIAN
METHOD:PUBLISH
X-WR-CALNAME:Tenor Aykut Yılmaz
X-ORIGINAL-URL:https://tenoraykutyilmaz.com
X-WR-CALDESC:Tenor Aykut Yılmaz için etkinlikler
REFRESH-INTERVAL;VALUE=DURATION:PT1H
X-Robots-Tag:noindex
X-PUBLISHED-TTL:PT1H
BEGIN:VTIMEZONE
TZID:Europe/Istanbul
BEGIN:STANDARD
TZOFFSETFROM:+0300
TZOFFSETTO:+0300
TZNAME:+03
DTSTART:20250101T000000
END:STANDARD
END:VTIMEZONE
BEGIN:VEVENT
DTSTART;TZID=Europe/Istanbul:20260213T200000
DTEND;TZID=Europe/Istanbul:20260213T213000
DTSTAMP:20260420T140603
CREATED:20260207T093700Z
LAST-MODIFIED:20260207T093810Z
UID:2378-1771012800-1771018200@tenoraykutyilmaz.com
SUMMARY:13 Şubat'26/"Amor Mio"/CSO Ada Ankara
DESCRIPTION:https://csoadaankara.gov.tr/tr/event/detail/12493/12508/amor-mio
URL:https://tenoraykutyilmaz.com/event/24-ocak26-sanat-gecesi-bellapais-manastiri/
LOCATION:CSO Ada Ankara\, Talatpaşa Bulvarı\, No: 38 Opera\, 06330 Altındağ/Ankara\, Ankara\, Turkey
END:VEVENT
BEGIN:VEVENT
DTSTART;TZID=Europe/Istanbul:20260214T200000
DTEND;TZID=Europe/Istanbul:20260214T213000
DTSTAMP:20260420T140603
CREATED:20260207T094528Z
LAST-MODIFIED:20260207T094528Z
UID:2383-1771099200-1771104600@tenoraykutyilmaz.com
SUMMARY:14 Şubat '26/"Amor Mio"/AKM İstanbul
DESCRIPTION:https://akmistanbul.gov.tr/tr/etkinlik/turk-telekom-prime-kahve-konserleri-amor-mio
URL:https://tenoraykutyilmaz.com/event/14-subat-26-amor-mio-akm-istanbul/
LOCATION:Atatürk Kültür Merkezi\, İstanbul
END:VEVENT
BEGIN:VEVENT
DTSTART;TZID=Europe/Istanbul:20260219T200000
DTEND;TZID=Europe/Istanbul:20260219T210000
DTSTAMP:20260420T140603
CREATED:20260207T095010Z
LAST-MODIFIED:20260207T095010Z
UID:2386-1771531200-1771534800@tenoraykutyilmaz.com
SUMMARY:19 Şubat '26/"Amor Mio"/All Saints Moda Kilisesi
DESCRIPTION:https://tenoraykutyilmaz.com/wp-content/uploads/2026/02/19-Subat-2026.mp4\nhttps://biletinial.com/tr-tr/muzik/amor-mio-latin-konseri
URL:https://tenoraykutyilmaz.com/event/19-subat-26-amor-mio-all-saints-moda-kilisesi/
LOCATION:All Saints Moda Kilisesi\, Caferağa Mahallesi\, Yusuf Kamil Paşa Sokağı\, No:8 34710 Kadıköy\, İSTANBUL\, Türkiye
ORGANIZER;CN="Aykut Y%C4%B1lmaz":MAILTO:tenoraykutyilmaz@gmail.com
END:VEVENT
END:VCALENDAR