BEGIN:VCALENDAR
VERSION:2.0
PRODID:-//Tenor Aykut Yılmaz - ECPv6.15.20//NONSGML v1.0//EN
CALSCALE:GREGORIAN
METHOD:PUBLISH
X-ORIGINAL-URL:https://tenoraykutyilmaz.com
X-WR-CALDESC:Tenor Aykut Yılmaz için etkinlikler
REFRESH-INTERVAL;VALUE=DURATION:PT1H
X-Robots-Tag:noindex
X-PUBLISHED-TTL:PT1H
BEGIN:VTIMEZONE
TZID:Europe/Istanbul
BEGIN:STANDARD
TZOFFSETFROM:+0300
TZOFFSETTO:+0300
TZNAME:+03
DTSTART:20250101T000000
END:STANDARD
END:VTIMEZONE
BEGIN:VEVENT
DTSTART;TZID=Europe/Istanbul:20260311T200000
DTEND;TZID=Europe/Istanbul:20260311T213000
DTSTAMP:20260420T101756
CREATED:20260221T142410Z
LAST-MODIFIED:20260221T142410Z
UID:2393-1773259200-1773264600@tenoraykutyilmaz.com
SUMMARY:11 Mart'26 / Allı Turnam / CSO Ada Ankara
DESCRIPTION:https://csoadaankara.gov.tr/tr/event/detail/12480/12495/alli-turnam
URL:https://tenoraykutyilmaz.com/event/11-mart26-alli-turnam-cso-ada-ankara/
LOCATION:CSO Ada Ankara\, Talatpaşa Bulvarı\, No: 38 Opera\, 06330 Altındağ/Ankara\, Ankara\, Turkey
END:VEVENT
BEGIN:VEVENT
DTSTART;TZID=Europe/Istanbul:20260313T200000
DTEND;TZID=Europe/Istanbul:20260313T213000
DTSTAMP:20260420T101756
CREATED:20260221T142722Z
LAST-MODIFIED:20260221T142722Z
UID:2396-1773432000-1773437400@tenoraykutyilmaz.com
SUMMARY:13 Mart'26 / Allı Turnam / All Saints Moda Kilisesi
DESCRIPTION:https://biletinial.com/tr-tr/muzik/alli-turnam
URL:https://tenoraykutyilmaz.com/event/13-mart26-alli-turnam-all-saints-moda-kilisesi/
LOCATION:All Saints Moda Kilisesi\, Caferağa Mahallesi\, Yusuf Kamil Paşa Sokağı\, No:8 34710 Kadıköy\, İSTANBUL\, Türkiye
ORGANIZER;CN="Aykut Y%C4%B1lmaz":MAILTO:tenoraykutyilmaz@gmail.com
END:VEVENT
BEGIN:VEVENT
DTSTART;TZID=Europe/Istanbul:20260317T200000
DTEND;TZID=Europe/Istanbul:20260317T213000
DTSTAMP:20260420T101756
CREATED:20260221T143557Z
LAST-MODIFIED:20260325T163706Z
UID:2399-1773777600-1773783000@tenoraykutyilmaz.com
SUMMARY:17 Mart'26 / Allı Turnam / Karşıyaka Hikmet Şimşek Sanat Merkezi
DESCRIPTION:https://biletinial.com/tr-tr/muzik/alli-turnam
URL:https://tenoraykutyilmaz.com/event/17-mart26-alli-turnam-karsiyaka-hikmet-simsek-kultur-merkezi/
LOCATION:Hikmet Şimşek Kültür Merkezi Karşıyaka\, Yalı\, 6445. Sk. No:23\, 35550 Atakent / Karşıyaka/Karşıyaka/İzmir\, İzmir\, Turkey
ORGANIZER;CN="Aykut Y%C4%B1lmaz":MAILTO:tenoraykutyilmaz@gmail.com
END:VEVENT
BEGIN:VEVENT
DTSTART;TZID=Europe/Istanbul:20260318T203000
DTEND;TZID=Europe/Istanbul:20260318T213000
DTSTAMP:20260420T101756
CREATED:20260325T164909Z
LAST-MODIFIED:20260325T164909Z
UID:2406-1773865800-1773869400@tenoraykutyilmaz.com
SUMMARY:18 Mart 2026 / Allı Turnam / Kartal Bülent Ecevit Kültür Merkezi
DESCRIPTION:
URL:https://tenoraykutyilmaz.com/event/18-mart-2026-alli-turnam-kartal-bulent-ecevit-kultur-merkezi/
LOCATION:Kartal Bülent Ecevit Kültür Merkezi\, Kordonboyu\, Ankara Cd. No:142\, 34860 Kartal/İstanbul\, İstanbul\, Turkey
END:VEVENT
END:VCALENDAR